BEGIN:VCALENDAR
VERSION:2.0
PRODID:-//My Brothers Keeper Of Genesee County - ECPv4.9.2//NONSGML v1.0//EN
CALSCALE:GREGORIAN
METHOD:PUBLISH
X-WR-CALNAME:My Brothers Keeper Of Genesee County
X-ORIGINAL-URL:http://mybrotherskeeperflint.org
X-WR-CALDESC:Events for My Brothers Keeper Of Genesee County
BEGIN:VEVENT
DTSTART;VALUE=DATE:20220101
DTEND;VALUE=DATE:20220102
DTSTAMP:20260420T232540
CREATED:20211230T114942Z
LAST-MODIFIED:20211230T114942Z
UID:2554-1640995200-1641081599@mybrotherskeeperflint.org
SUMMARY:Business Network/Rahshamer Neal
DESCRIPTION:
URL:http://mybrotherskeeperflint.org/event/business-network-rahshamer-neal/
END:VEVENT
END:VCALENDAR