BEGIN:VCALENDAR
VERSION:2.0
PRODID:-//My Brothers Keeper Of Genesee County - ECPv4.9.2//NONSGML v1.0//EN
CALSCALE:GREGORIAN
METHOD:PUBLISH
X-WR-CALNAME:My Brothers Keeper Of Genesee County
X-ORIGINAL-URL:http://mybrotherskeeperflint.org
X-WR-CALDESC:Events for My Brothers Keeper Of Genesee County
BEGIN:VEVENT
DTSTART;TZID=America/Detroit:20181122T173000
DTEND;TZID=America/Detroit:20181122T190000
DTSTAMP:20260425T000029
CREATED:20180910T190003Z
LAST-MODIFIED:20180910T190034Z
UID:1733-1542907800-1542913200@mybrotherskeeperflint.org
SUMMARY:West Court - Dinner
DESCRIPTION:
URL:http://mybrotherskeeperflint.org/event/west-court-dinner-5/
END:VEVENT
END:VCALENDAR