BEGIN:VCALENDAR
VERSION:2.0
PRODID:-//My Brothers Keeper Of Genesee County - ECPv4.9.2//NONSGML v1.0//EN
CALSCALE:GREGORIAN
METHOD:PUBLISH
X-WR-CALNAME:My Brothers Keeper Of Genesee County
X-ORIGINAL-URL:http://mybrotherskeeperflint.org
X-WR-CALDESC:Events for My Brothers Keeper Of Genesee County
BEGIN:VEVENT
DTSTART;TZID=UTC+0:20181116T170000
DTEND;TZID=UTC+0:20181116T190000
DTSTAMP:20260419T163939
CREATED:20180910T181618Z
LAST-MODIFIED:20180910T181758Z
UID:1723-1542387600-1542394800@mybrotherskeeperflint.org
SUMMARY:New Life Lutheran - Dinner
DESCRIPTION:
URL:http://mybrotherskeeperflint.org/event/new-life-lutheran-dinner-6/
END:VEVENT
END:VCALENDAR