BEGIN:VCALENDAR
VERSION:2.0
PRODID:-//My Brothers Keeper Of Genesee County - ECPv4.9.2//NONSGML v1.0//EN
CALSCALE:GREGORIAN
METHOD:PUBLISH
X-WR-CALNAME:My Brothers Keeper Of Genesee County
X-ORIGINAL-URL:http://mybrotherskeeperflint.org
X-WR-CALDESC:Events for My Brothers Keeper Of Genesee County
BEGIN:VEVENT
DTSTART;VALUE=DATE:20220218
DTEND;VALUE=DATE:20220219
DTSTAMP:20260422T073933
CREATED:20220208T061817Z
LAST-MODIFIED:20220208T061817Z
UID:2607-1645142400-1645228799@mybrotherskeeperflint.org
SUMMARY:New Life Lutheran
DESCRIPTION:
URL:http://mybrotherskeeperflint.org/event/new-life-lutheran-6/
END:VEVENT
END:VCALENDAR