BEGIN:VCALENDAR
VERSION:2.0
PRODID:-//My Brothers Keeper Of Genesee County - ECPv4.9.2//NONSGML v1.0//EN
CALSCALE:GREGORIAN
METHOD:PUBLISH
X-WR-CALNAME:My Brothers Keeper Of Genesee County
X-ORIGINAL-URL:http://mybrotherskeeperflint.org
X-WR-CALDESC:Events for My Brothers Keeper Of Genesee County
BEGIN:VEVENT
DTSTART;TZID=America/Detroit:20181126T100000
DTEND;TZID=America/Detroit:20181126T120000
DTSTAMP:20260424T223406
CREATED:20180910T191426Z
LAST-MODIFIED:20180910T191426Z
UID:1735-1543226400-1543233600@mybrotherskeeperflint.org
SUMMARY:Nation of Islam - Lunch
DESCRIPTION:
URL:http://mybrotherskeeperflint.org/event/nation-of-islam-lunch-3/
END:VEVENT
END:VCALENDAR