BEGIN:VCALENDAR
VERSION:2.0
PRODID:-//My Brothers Keeper Of Genesee County - ECPv4.9.2//NONSGML v1.0//EN
CALSCALE:GREGORIAN
METHOD:PUBLISH
X-WR-CALNAME:My Brothers Keeper Of Genesee County
X-ORIGINAL-URL:http://mybrotherskeeperflint.org
X-WR-CALDESC:Events for My Brothers Keeper Of Genesee County
BEGIN:VEVENT
DTSTART;TZID=UTC+0:20181130T170000
DTEND;TZID=UTC+0:20181130T190000
DTSTAMP:20260424T170305
CREATED:20180910T191821Z
LAST-MODIFIED:20180910T191821Z
UID:1743-1543597200-1543604400@mybrotherskeeperflint.org
SUMMARY:Michigan Vision Institute - Dinner
DESCRIPTION:
URL:http://mybrotherskeeperflint.org/event/michigan-vision-institute-dinner-4/
END:VEVENT
END:VCALENDAR