BEGIN:VCALENDAR
VERSION:2.0
PRODID:-//My Brothers Keeper Of Genesee County - ECPv4.9.2//NONSGML v1.0//EN
CALSCALE:GREGORIAN
METHOD:PUBLISH
X-WR-CALNAME:My Brothers Keeper Of Genesee County
X-ORIGINAL-URL:http://mybrotherskeeperflint.org
X-WR-CALDESC:Events for My Brothers Keeper Of Genesee County
BEGIN:VEVENT
DTSTART;TZID=America/Detroit:20220108T070000
DTEND;TZID=America/Detroit:20220108T170000
DTSTAMP:20260420T231641
CREATED:20211230T115115Z
LAST-MODIFIED:20211230T115727Z
UID:2560-1641625200-1641661200@mybrotherskeeperflint.org
SUMMARY:Kingston Church
DESCRIPTION:
URL:http://mybrotherskeeperflint.org/event/kingston-church/
END:VEVENT
END:VCALENDAR