BEGIN:VCALENDAR
VERSION:2.0
PRODID:-//My Brothers Keeper Of Genesee County - ECPv4.9.2//NONSGML v1.0//EN
CALSCALE:GREGORIAN
METHOD:PUBLISH
X-WR-CALNAME:My Brothers Keeper Of Genesee County
X-ORIGINAL-URL:http://mybrotherskeeperflint.org
X-WR-CALDESC:Events for My Brothers Keeper Of Genesee County
BEGIN:VEVENT
DTSTART;TZID=America/Detroit:20180917T180000
DTEND;TZID=America/Detroit:20180917T190000
DTSTAMP:20260425T131415
CREATED:20180815T200742Z
LAST-MODIFIED:20180815T200742Z
UID:1526-1537207200-1537210800@mybrotherskeeperflint.org
SUMMARY:Everything Hair - Dinner
DESCRIPTION:
URL:http://mybrotherskeeperflint.org/event/everything-hair-dinner-12/
END:VEVENT
END:VCALENDAR