BEGIN:VCALENDAR
VERSION:2.0
PRODID:-//My Brothers Keeper Of Genesee County - ECPv4.9.2//NONSGML v1.0//EN
CALSCALE:GREGORIAN
METHOD:PUBLISH
X-WR-CALNAME:My Brothers Keeper Of Genesee County
X-ORIGINAL-URL:http://mybrotherskeeperflint.org
X-WR-CALDESC:Events for My Brothers Keeper Of Genesee County
BEGIN:VEVENT
DTSTART;TZID=America/Detroit:20181128T170000
DTEND;TZID=America/Detroit:20181128T190000
DTSTAMP:20260424T182557
CREATED:20180910T191740Z
LAST-MODIFIED:20180910T191740Z
UID:1741-1543424400-1543431600@mybrotherskeeperflint.org
SUMMARY:Cornerstone - Dinner
DESCRIPTION:
URL:http://mybrotherskeeperflint.org/event/cornerstone-dinner-4/
END:VEVENT
END:VCALENDAR