BEGIN:VCALENDAR
VERSION:2.0
PRODID:-//My Brothers Keeper Of Genesee County - ECPv4.9.2//NONSGML v1.0//EN
CALSCALE:GREGORIAN
METHOD:PUBLISH
X-WR-CALNAME:My Brothers Keeper Of Genesee County
X-ORIGINAL-URL:http://mybrotherskeeperflint.org
X-WR-CALDESC:Events for My Brothers Keeper Of Genesee County
BEGIN:VEVENT
DTSTART;TZID=America/Detroit:20181205T100000
DTEND;TZID=America/Detroit:20181205T120000
DTSTAMP:20260424T115831
CREATED:20180816T235357Z
LAST-MODIFIED:20180828T230327Z
UID:1613-1544004000-1544011200@mybrotherskeeperflint.org
SUMMARY:Career Edge - Interview Preparation
DESCRIPTION:You have the skills and credentials but the idea of interviewing for that job can be overwhelming. What types of questions will they ask? Will I remember the “right” things to say? Who should sit down first? Is it okay to ask for a drink of water? These and many other questions will be answered as participants are introduced to various types of Interviews\, how to prepare\, Mock Interview role playing\, presentation skills and networking. \nClick here to register \n
URL:http://mybrotherskeeperflint.org/event/career-edge-1205/
END:VEVENT
END:VCALENDAR