BEGIN:VCALENDAR
VERSION:2.0
PRODID:-//My Brothers Keeper Of Genesee County - ECPv4.9.2//NONSGML v1.0//EN
CALSCALE:GREGORIAN
METHOD:PUBLISH
X-WR-CALNAME:My Brothers Keeper Of Genesee County
X-ORIGINAL-URL:http://mybrotherskeeperflint.org
X-WR-CALDESC:Events for My Brothers Keeper Of Genesee County
BEGIN:VEVENT
DTSTART;TZID=America/Detroit:20181204T100000
DTEND;TZID=America/Detroit:20181204T120000
DTSTAMP:20260424T132340
CREATED:20180816T230716Z
LAST-MODIFIED:20180828T223753Z
UID:1611-1543917600-1543924800@mybrotherskeeperflint.org
SUMMARY:Career Edge - Job Search Preparation
DESCRIPTION:In addition to “looking” for a new job there are important steps that you must take to prepare for your new career opportunity. This course includes Application Completion\, Resume Development\, Cover Letter\, References and Portfolio Development. Participants will leave with the necessary tools to successfully fill out a job application\, develop a winning resume\, appropriately word a cover letter targeted to a job you are seeking and prepare a portfolio to showcase your skills\, experience and accomplishments. \nClick here to register \n  \n
URL:http://mybrotherskeeperflint.org/event/career-edge-1204/
END:VEVENT
END:VCALENDAR